BEGIN:VCALENDAR
VERSION:2.0
PRODID:-//50.62.174.80//NONSGML kigkonsult.se iCalcreator 2.26.9//
CALSCALE:GREGORIAN
METHOD:PUBLISH
X-FROM-URL:https://www.delmarvarobotics.org
X-WR-TIMEZONE:America/New_York
BEGIN:VTIMEZONE
TZID:America/New_York
X-LIC-LOCATION:America/New_York
BEGIN:STANDARD
DTSTART:20251102T020000
TZOFFSETFROM:-0400
TZOFFSETTO:-0500
RDATE:20261101T020000
TZNAME:EST
END:STANDARD
BEGIN:DAYLIGHT
DTSTART:20260308T020000
TZOFFSETFROM:-0500
TZOFFSETTO:-0400
RDATE:20270314T020000
TZNAME:EDT
END:DAYLIGHT
END:VTIMEZONE
BEGIN:VEVENT
UID:ai1ec-1366@www.delmarvarobotics.org
DTSTAMP:20260423T083729Z
CATEGORIES:
CONTACT:
DESCRIPTION:
DTSTART;TZID=America/New_York:20250110T170000
DTEND;TZID=America/New_York:20250110T200000
GEO:+39.788407;-75.502212
LOCATION:Carrcroft Elementary School Gym @ 503 Crest Rd\, Wilmington\, DE 1
 9803\, USA
SEQUENCE:0
SUMMARY:Rapid Relay Carrcroft Elementary Competition
URL:https://www.delmarvarobotics.org/event/rapid-relay-carrcroft-elementary
 -competition/
X-COST-TYPE:free
END:VEVENT
BEGIN:VEVENT
UID:ai1ec-1367@www.delmarvarobotics.org
DTSTAMP:20260423T083729Z
CATEGORIES:
CONTACT:
DESCRIPTION:
DTSTART;TZID=America/New_York:20250117T170000
DTEND;TZID=America/New_York:20250117T200000
GEO:+39.803635;-75.464058
LOCATION:Claymont Elementary Cafeteria @ 3401 Green St\, Claymont\, DE 1970
 3\, USA
SEQUENCE:0
SUMMARY:Rapid Relay Claymont Elementary Competition
URL:https://www.delmarvarobotics.org/event/rapid-relay-claymont-elementary-
 competition/
X-COST-TYPE:free
END:VEVENT
BEGIN:VEVENT
UID:ai1ec-1368@www.delmarvarobotics.org
DTSTAMP:20260423T083729Z
CATEGORIES:
CONTACT:
DESCRIPTION:
DTSTART;TZID=America/New_York:20250125T100000
DTEND;TZID=America/New_York:20250125T140000
GEO:+39.701921;-75.550968
LOCATION:Rt 9 Library - Black Box Theater @ 3022 New Castle Ave\, New Castl
 e\, DE 19720\, USA
SEQUENCE:0
SUMMARY:Rapid Relay Rt 9 Library Competition
URL:https://www.delmarvarobotics.org/event/rapid-relay-rt-9-library-competi
 tion/
X-COST-TYPE:free
END:VEVENT
BEGIN:VEVENT
UID:ai1ec-1369@www.delmarvarobotics.org
DTSTAMP:20260423T083729Z
CATEGORIES:
CONTACT:
DESCRIPTION:
DTSTART;TZID=America/New_York:20250131T170000
DTEND;TZID=America/New_York:20250131T200000
GEO:+39.78463;-75.535274
LOCATION:Lombardy Elementary Gym @ 412 Foulk Rd\, Wilmington\, DE 19803\, U
 SA
SEQUENCE:0
SUMMARY:Rapid Relay Lombardy Elementary Competition
URL:https://www.delmarvarobotics.org/event/rapid-relay-lombardy-elementary-
 competition/
X-COST-TYPE:free
END:VEVENT
BEGIN:VEVENT
UID:ai1ec-1370@www.delmarvarobotics.org
DTSTAMP:20260423T083729Z
CATEGORIES:
CONTACT:
DESCRIPTION:
DTSTART;TZID=America/New_York:20250207T170000
DTEND;TZID=America/New_York:20250207T200000
GEO:+39.76298;-75.529962
LOCATION:Harlan Cafeteria (basement) @ 3601 Jefferson St\, Wilmington\, DE 
 19802\, USA
SEQUENCE:0
SUMMARY:Rapid Relay Harlan Elementary Competition
URL:https://www.delmarvarobotics.org/event/rapid-relay-harlan-elementary-co
 mpetition/
X-COST-TYPE:free
END:VEVENT
BEGIN:VEVENT
UID:ai1ec-1376@www.delmarvarobotics.org
DTSTAMP:20260423T083729Z
CATEGORIES:
CONTACT:
DESCRIPTION:
DTSTART;TZID=America/New_York:20250214T170000
DTEND;TZID=America/New_York:20250214T200000
GEO:+39.820762;-75.526651
LOCATION:Cafeteria @ 2523 Berwyn Rd\, Wilmington\, DE 19810\, USA
SEQUENCE:0
SUMMARY:Rapid Relay Hanby Elementary Competition
URL:https://www.delmarvarobotics.org/event/rapid-relay-hanby-elementary-com
 petition/
X-COST-TYPE:free
END:VEVENT
BEGIN:VEVENT
UID:ai1ec-1378@www.delmarvarobotics.org
DTSTAMP:20260423T083729Z
CATEGORIES:
CONTACT:
DESCRIPTION:
DTSTART;TZID=America/New_York:20250221T170000
DTEND;TZID=America/New_York:20250221T200000
GEO:+39.806201;-75.504617
LOCATION:Forwood Cafeteria @ 1900 Westminster Dr\, Wilmington\, DE 19810\, 
 USA
SEQUENCE:0
SUMMARY:Rapid Relay Forwood Elementary Competition
URL:https://www.delmarvarobotics.org/event/rapid-relay-forwood-elementary-c
 ompetition/
X-COST-TYPE:free
END:VEVENT
BEGIN:VEVENT
UID:ai1ec-1379@www.delmarvarobotics.org
DTSTAMP:20260423T083729Z
CATEGORIES:
CONTACT:
DESCRIPTION:
DTSTART;TZID=America/New_York:20250227T170000
DTEND;TZID=America/New_York:20250227T200000
GEO:+39.770744;-75.496213
LOCATION:MPE Multipurpose Room @ 500 Duncan Rd\, Wilmington\, DE 19809\, US
 A
SEQUENCE:0
SUMMARY:Rapid Relay Mount Pleasant Competition
URL:https://www.delmarvarobotics.org/event/rapid-relay-mount-pleasant-compe
 tition/
X-COST-TYPE:free
END:VEVENT
BEGIN:VEVENT
UID:ai1ec-1380@www.delmarvarobotics.org
DTSTAMP:20260423T083729Z
CATEGORIES:
CONTACT:
DESCRIPTION:
DTSTART;TZID=America/New_York:20250228T170000
DTEND;TZID=America/New_York:20250228T200000
GEO:+39.823055;-75.494463
LOCATION:Lancashire Cafeteria @ 2000 Naamans Rd\, Wilmington\, DE 19810\, U
 SA
SEQUENCE:0
SUMMARY:Rapid Relay Lancashire Competition
URL:https://www.delmarvarobotics.org/event/rapid-relay-lancashire-competiti
 on/
X-COST-TYPE:free
END:VEVENT
BEGIN:VEVENT
UID:ai1ec-1381@www.delmarvarobotics.org
DTSTAMP:20260423T083729Z
CATEGORIES:
CONTACT:
DESCRIPTION:
DTSTART;TZID=America/New_York:20250315T090000
DTEND;TZID=America/New_York:20250315T150000
GEO:+39.822934;-75.472383
LOCATION:Gym (enter in the back) @ 1110 Cypress Rd\, Wilmington\, DE 19810\
 , USA
SEQUENCE:0
SUMMARY:Rapid Relay Elementary Extravaganza
URL:https://www.delmarvarobotics.org/event/rapid-relay-elementary-extravaga
 nza/
X-COST-TYPE:free
END:VEVENT
END:VCALENDAR
